BEGIN:VCALENDAR
PRODID:-//eluceo/ical//2.0/EN
VERSION:2.0
CALSCALE:GREGORIAN
BEGIN:VEVENT
UID:afae17329be4fbf39e2c0559655831cf
DTSTAMP:20260419T154409Z
SUMMARY:To flip or not to flip?
DESCRIPTION:Kontakt: asa.ahnfelt@lth.lu.se\n\nLectures\, exercises\, projec
 ts\, exam... repeat. As teachers\, it can sometimes be daunting to impleme
 nt significant changes to this 'tried and tested course formula'. How can 
 I justify the change? Do I have enough time and resources to carry it thro
 ugh? What if it doesn't work?&nbsp\;This seminar will focus on our journey
 s in transitioning towards a less traditional course format called flipped
  classroom. We will summarize how we have used it\, the results we got\, a
 nd look forward to fruitful feedback and discussions with you. Prior to th
 e seminar\, we will also upload a short video which summarizes the concept
 .&nbsp\;Leading the seminar is Frida Heskebeck from the Department of Auto
 matic Control and Ivar Björnsson from the Department of Building and Envi
 ronmental Technology and CEE/EFU.We recommend watching this video before t
 he seminar – lu.instructuremedia.com\n\nMer information om händelsen: h
 ttps://www.education.lu.se/evenemang/flip-or-not-flip
DTSTART;TZID=GMT:20260424T101000
DTEND;TZID=GMT:20260424T110000
LOCATION:Teknodromen\, M-huset\, LTH\, Lund.
END:VEVENT
END:VCALENDAR
